BEGIN:VCALENDAR
VERSION:2.0
PRODID:-//Wesley Methodist Church KL - ECPv5.1.4//NONSGML v1.0//EN
CALSCALE:GREGORIAN
METHOD:PUBLISH
X-WR-CALNAME:Wesley Methodist Church KL
X-ORIGINAL-URL:https://klwesley.org
X-WR-CALDESC:Events for Wesley Methodist Church KL
BEGIN:VTIMEZONE
TZID:UTC
BEGIN:STANDARD
TZOFFSETFROM:+0000
TZOFFSETTO:+0000
TZNAME:UTC
DTSTART:20190101T000000
END:STANDARD
END:VTIMEZONE
BEGIN:VEVENT
DTSTART;VALUE=DATE:20190427
DTEND;VALUE=DATE:20190428
DTSTAMP:20260422T125303
CREATED:20190103T062329Z
LAST-MODIFIED:20190103T062329Z
UID:27945-1556323200-1556409599@klwesley.org
SUMMARY:BB & GB Enrolment
DESCRIPTION:
URL:https://klwesley.org/event/bb-gb-enrolment/
END:VEVENT
END:VCALENDAR