BEGIN:VCALENDAR
VERSION:2.0
PRODID:-//Wesley Methodist Church KL - ECPv5.1.4//NONSGML v1.0//EN
CALSCALE:GREGORIAN
METHOD:PUBLISH
X-WR-CALNAME:Wesley Methodist Church KL
X-ORIGINAL-URL:https://klwesley.org
X-WR-CALDESC:Events for Wesley Methodist Church KL
BEGIN:VTIMEZONE
TZID:UTC
BEGIN:STANDARD
TZOFFSETFROM:+0000
TZOFFSETTO:+0000
TZNAME:UTC
DTSTART:20190101T000000
END:STANDARD
END:VTIMEZONE
BEGIN:VEVENT
DTSTART;VALUE=DATE:20190414
DTEND;VALUE=DATE:20190415
DTSTAMP:20260423T062209
CREATED:20190103T032401Z
LAST-MODIFIED:20190103T032401Z
UID:27924-1555200000-1555286399@klwesley.org
SUMMARY:Baptism Sunday
DESCRIPTION:
URL:https://klwesley.org/event/baptism-sunday-5/
END:VEVENT
END:VCALENDAR